BEGIN:VCALENDAR
PRODID:-//eluceo/ical//2.0/EN
VERSION:2.0
CALSCALE:GREGORIAN
BEGIN:VEVENT
UID:5c03dd49998c2775de4b46ba45d43680
DTSTAMP:20260421T115133Z
SUMMARY:Championnats IGFR Switzerland
DESCRIPTION:Web stranica: http://www.golfdeneuchatel.ch\nGovornik(ci): 
URL:https://golfeurs-igfr.polaris.rotary.ch/bs/agenda/show/194669
DTSTART;TZID=Europe/Zurich:20250905T090000
DTEND;TZID=Europe/Zurich:20250905T220000
LOCATION:Golf & Country Club Neuchâtel\, Hameau de Voëns 13\, 2072 Saint-
 Blaise
CATEGORIES:Rotary
END:VEVENT
BEGIN:VTIMEZONE
TZID:Europe/Zurich
BEGIN:DAYLIGHT
DTSTART:20250905T090000
TZNAME:CEST
TZOFFSETTO:+0200
TZOFFSETFROM:+0200
END:DAYLIGHT
END:VTIMEZONE
END:VCALENDAR
