BEGIN:VCALENDAR
PRODID:-//eluceo/ical//2.0/EN
VERSION:2.0
CALSCALE:GREGORIAN
BEGIN:VEVENT
UID:773ebdc479d0be0ea7f8750387c1ce8e
DTSTAMP:20260421T115634Z
SUMMARY:The Charity Open – Golf for Good | RC Flims-Laax
DESCRIPTION:Web stranica: https://flims-laax.rotary2000.ch/fr/agenda/show/2
 00701?ce=1
URL:https://golfeurs-igfr.polaris.rotary.ch/bs/agenda/show/202218
DTSTART;TZID=Europe/Zurich:20250906T205500
DTEND;TZID=Europe/Zurich:20250906T205500
LOCATION:Buna Vista Golf Sagogn\, Via Vitg Dadens 71\, CH-7152 Sagogn
CATEGORIES:Rotary
END:VEVENT
BEGIN:VTIMEZONE
TZID:Europe/Zurich
BEGIN:DAYLIGHT
DTSTART:20250906T205500
TZNAME:CEST
TZOFFSETTO:+0200
TZOFFSETFROM:+0200
END:DAYLIGHT
END:VTIMEZONE
END:VCALENDAR
